BEGIN:VCALENDAR
VERSION:2.0
PRODID:-//Prairie State Bonsai Society - ECPv6.15.20//NONSGML v1.0//EN
CALSCALE:GREGORIAN
METHOD:PUBLISH
X-WR-CALNAME:Prairie State Bonsai Society
X-ORIGINAL-URL:https://prairiestatebonsai.com
X-WR-CALDESC:Events for Prairie State Bonsai Society
REFRESH-INTERVAL;VALUE=DURATION:PT1H
X-Robots-Tag:noindex
X-PUBLISHED-TTL:PT1H
BEGIN:VTIMEZONE
TZID:America/Chicago
BEGIN:DAYLIGHT
TZOFFSETFROM:-0600
TZOFFSETTO:-0500
TZNAME:CDT
DTSTART:20220313T080000
END:DAYLIGHT
BEGIN:STANDARD
TZOFFSETFROM:-0500
TZOFFSETTO:-0600
TZNAME:CST
DTSTART:20221106T070000
END:STANDARD
BEGIN:DAYLIGHT
TZOFFSETFROM:-0600
TZOFFSETTO:-0500
TZNAME:CDT
DTSTART:20230312T080000
END:DAYLIGHT
BEGIN:STANDARD
TZOFFSETFROM:-0500
TZOFFSETTO:-0600
TZNAME:CST
DTSTART:20231105T070000
END:STANDARD
BEGIN:DAYLIGHT
TZOFFSETFROM:-0600
TZOFFSETTO:-0500
TZNAME:CDT
DTSTART:20240310T080000
END:DAYLIGHT
BEGIN:STANDARD
TZOFFSETFROM:-0500
TZOFFSETTO:-0600
TZNAME:CST
DTSTART:20241103T070000
END:STANDARD
END:VTIMEZONE
BEGIN:VEVENT
DTSTART;TZID=America/Chicago:20230301T190000
DTEND;TZID=America/Chicago:20230301T203000
DTSTAMP:20260425T225959
CREATED:20221109T001538Z
LAST-MODIFIED:20230227T180116Z
UID:10740-1677697200-1677702600@prairiestatebonsai.com
SUMMARY:General Meeting - March 2023
DESCRIPTION:  \nOur March Meeting will be a ZOOM presentation by Chris Consenza on Tanuki or Phoenix grafting. \n\n\n  \n\nMeetings are held on the first Wednesday from 7:00 pm to 8:30 pm at The College of Dupage campus in the TEC 1038b.  The college address is 425 Fawell Boulevard\, Glen Ellyn\, Illinois. \nMembers who are unable to attend in person may join via ZOOM.
URL:https://prairiestatebonsai.com/event/general-meeting-march-2023/
LOCATION:IL
END:VEVENT
END:VCALENDAR