BEGIN:VCALENDAR
VERSION:2.0
PRODID:-//Prairie State Bonsai Society - ECPv6.15.20//NONSGML v1.0//EN
CALSCALE:GREGORIAN
METHOD:PUBLISH
X-WR-CALNAME:Prairie State Bonsai Society
X-ORIGINAL-URL:https://prairiestatebonsai.com
X-WR-CALDESC:Events for Prairie State Bonsai Society
REFRESH-INTERVAL;VALUE=DURATION:PT1H
X-Robots-Tag:noindex
X-PUBLISHED-TTL:PT1H
BEGIN:VTIMEZONE
TZID:America/Chicago
BEGIN:DAYLIGHT
TZOFFSETFROM:-0600
TZOFFSETTO:-0500
TZNAME:CDT
DTSTART:20220313T080000
END:DAYLIGHT
BEGIN:STANDARD
TZOFFSETFROM:-0500
TZOFFSETTO:-0600
TZNAME:CST
DTSTART:20221106T070000
END:STANDARD
BEGIN:DAYLIGHT
TZOFFSETFROM:-0600
TZOFFSETTO:-0500
TZNAME:CDT
DTSTART:20230312T080000
END:DAYLIGHT
BEGIN:STANDARD
TZOFFSETFROM:-0500
TZOFFSETTO:-0600
TZNAME:CST
DTSTART:20231105T070000
END:STANDARD
BEGIN:DAYLIGHT
TZOFFSETFROM:-0600
TZOFFSETTO:-0500
TZNAME:CDT
DTSTART:20240310T080000
END:DAYLIGHT
BEGIN:STANDARD
TZOFFSETFROM:-0500
TZOFFSETTO:-0600
TZNAME:CST
DTSTART:20241103T070000
END:STANDARD
END:VTIMEZONE
BEGIN:VEVENT
DTSTART;TZID=America/Chicago:20230401T120000
DTEND;TZID=America/Chicago:20230401T150000
DTSTAMP:20260425T172605
CREATED:20221212T143317Z
LAST-MODIFIED:20221213T114950Z
UID:11155-1680350400-1680361200@prairiestatebonsai.com
SUMMARY:Yamadori Dig with MBS
DESCRIPTION:Bryan Lorentzen\, a member of the Milwaukee Bonsai Society\, is hosting a Yamadori dig on April 1st\, 2023\, and has invited our club to attend. \nHe was walking in the woods near the Boerner Botanical garden three years ago. The Milwaukee Public Schools own the woods. He came across a large group of burning bushes. In many places\, they are considered an invasive species. When I contacted and met the caretaker of these woods\, he permitted me to dig up as many of these trees as I would like. \nWe have been there for two springs and are not making a dent. We dug maybe 50 last spring. They make great bonsai. Some were 4″ in diameter. You can dig up trees for an upright\, slant style or other. My plan for next spring is to make forests. The trees flower in the spring\, get red berries\, bud back\, and ramify easily\, and of course\, the leaves turn red in fall. This last fall\, when the leaves were changing color\, we were there. They stood out in the woods\, and there were more than a thousand of them. I will make some oval pots that you can buy for the forest at a reasonable price\, and I have some other pots for sale. \nYou will need branch cutters\, shovels\, bags\, a saw if you choose a large tree\, and maybe a cart because the woods are a couple of hundred yards from the parking lot. Be prepared with soil and pots for when you get home. \nThe event starts after their Saturday meeting on April 1st\, 2023. The meeting goes from 9-12 noon at the Boerner Botanical Visitor building on the lower level. Come to the meeting if you want. Or you can wait in the parking lot for us to come out. There will likely be a good spring educational program. \nhttps://county.milwaukee.gov/EN/Parks/Explore/Boerner-Botanical-Gardens \nHere is a story that he wrote a few years ago about Yamadori. \nhttps://docs.google.com/document/d/e/2PACX-1vRHD5WvDjZr4Y5AsJVDkBuGExlFLEKRLnq4x1wXpOKopQv7MsFvhrHDbzvfxx9F-A/pub
URL:https://prairiestatebonsai.com/event/yamadori-dig-with-mbs/
LOCATION:Boerner Botanical Gardens\, 9400 Boerner Drive\, Hales Corners\, WI\, 53130\, United States
END:VEVENT
END:VCALENDAR