BEGIN:VCALENDAR
VERSION:2.0
PRODID:-//Prairie State Bonsai Society - ECPv6.15.20//NONSGML v1.0//EN
CALSCALE:GREGORIAN
METHOD:PUBLISH
X-ORIGINAL-URL:https://prairiestatebonsai.com
X-WR-CALDESC:Events for Prairie State Bonsai Society
REFRESH-INTERVAL;VALUE=DURATION:PT1H
X-Robots-Tag:noindex
X-PUBLISHED-TTL:PT1H
BEGIN:VTIMEZONE
TZID:America/Chicago
BEGIN:DAYLIGHT
TZOFFSETFROM:-0600
TZOFFSETTO:-0500
TZNAME:CDT
DTSTART:20220313T080000
END:DAYLIGHT
BEGIN:STANDARD
TZOFFSETFROM:-0500
TZOFFSETTO:-0600
TZNAME:CST
DTSTART:20221106T070000
END:STANDARD
BEGIN:DAYLIGHT
TZOFFSETFROM:-0600
TZOFFSETTO:-0500
TZNAME:CDT
DTSTART:20230312T080000
END:DAYLIGHT
BEGIN:STANDARD
TZOFFSETFROM:-0500
TZOFFSETTO:-0600
TZNAME:CST
DTSTART:20231105T070000
END:STANDARD
BEGIN:DAYLIGHT
TZOFFSETFROM:-0600
TZOFFSETTO:-0500
TZNAME:CDT
DTSTART:20240310T080000
END:DAYLIGHT
BEGIN:STANDARD
TZOFFSETFROM:-0500
TZOFFSETTO:-0600
TZNAME:CST
DTSTART:20241103T070000
END:STANDARD
END:VTIMEZONE
BEGIN:VEVENT
DTSTART;TZID=America/Chicago:20230625T110000
DTEND;TZID=America/Chicago:20230625T150000
DTSTAMP:20260425T125345
CREATED:20230531T210702Z
LAST-MODIFIED:20230625T103448Z
UID:12580-1687690800-1687705200@prairiestatebonsai.com
SUMMARY:Annual Club Picnic 2023
DESCRIPTION:This year’s summer picnic is Sunday\, June 25\, from 11 to 3\, at Cantigny Park\, 1s151 Winfield Rd. in Wheaton\, IL 60189. \nCantigny is a beautiful park with gardens\, the Robert R. McCormick House\, and the First Division Museum. \nOur club picnic is the perfect time to come together and enjoy bonsai.  We should take this opportunity to bring a tree to show others and bring trees that we would like advice on.  It is a great time to hang out together and work on trees.  Nothing beats a summer day talking bonsai and wiring trees. \nOur picnic will take place under the shelter just on the left as you enter the park. Lunch will take place around noon. The club will provide burgers\, hot dogs\, and drinks; members are asked to bring their sides and share. \nMembers\, please plan on bringing a dish to pass and a tree or two to work on.  The club will have our wire box available if people need wire for their trees. \nSo we hope to see you on June 25th! \n \n  \nPlease be aware that while there is no entry fee to Cantigny\, there is a $10 parking fee per car. \nPlease feel free to call me (Nick DiBattista 630-479-2112) should you have any questions.
URL:https://prairiestatebonsai.com/event/annual-club-picnic-2023/
LOCATION:IL
END:VEVENT
END:VCALENDAR