BEGIN:VCALENDAR
VERSION:2.0
PRODID:-//Prairie State Bonsai Society - ECPv6.15.20//NONSGML v1.0//EN
CALSCALE:GREGORIAN
METHOD:PUBLISH
X-WR-CALNAME:Prairie State Bonsai Society
X-ORIGINAL-URL:https://prairiestatebonsai.com
X-WR-CALDESC:Events for Prairie State Bonsai Society
REFRESH-INTERVAL;VALUE=DURATION:PT1H
X-Robots-Tag:noindex
X-PUBLISHED-TTL:PT1H
BEGIN:VTIMEZONE
TZID:America/Chicago
BEGIN:DAYLIGHT
TZOFFSETFROM:-0600
TZOFFSETTO:-0500
TZNAME:CDT
DTSTART:20230312T080000
END:DAYLIGHT
BEGIN:STANDARD
TZOFFSETFROM:-0500
TZOFFSETTO:-0600
TZNAME:CST
DTSTART:20231105T070000
END:STANDARD
BEGIN:DAYLIGHT
TZOFFSETFROM:-0600
TZOFFSETTO:-0500
TZNAME:CDT
DTSTART:20240310T080000
END:DAYLIGHT
BEGIN:STANDARD
TZOFFSETFROM:-0500
TZOFFSETTO:-0600
TZNAME:CST
DTSTART:20241103T070000
END:STANDARD
BEGIN:DAYLIGHT
TZOFFSETFROM:-0600
TZOFFSETTO:-0500
TZNAME:CDT
DTSTART:20250309T080000
END:DAYLIGHT
BEGIN:STANDARD
TZOFFSETFROM:-0500
TZOFFSETTO:-0600
TZNAME:CST
DTSTART:20251102T070000
END:STANDARD
END:VTIMEZONE
BEGIN:VEVENT
DTSTART;TZID=America/Chicago:20240503T080000
DTEND;TZID=America/Chicago:20240505T190000
DTSTAMP:20260424T214936
CREATED:20240314T165903Z
LAST-MODIFIED:20240314T170037Z
UID:14917-1714723200-1714935600@prairiestatebonsai.com
SUMMARY:Bonsai Central Convention in Saint Louis
DESCRIPTION:Convention in Saint Louis\nBonsai Central 2024 will be held at the Gateway Convention Center in Collinsville\, Illinois. Just a short drive across the river from Saint Louis\, the hospitality district in Collinsville accommodates events at Gateway Convention Center with 9 hotels and over 900 hotel rooms in a variety of hotel properties\, approximately 20 restaurants ranging from casual family dining to fine dining\, and several exciting attractions. \nGateway Convention Center\n1 Gateway Dr.\nCollinsville\, IL 62234 \n \n  \nProgram and Schedule\nClick Here for more information and pricing.
URL:https://prairiestatebonsai.com/event/14917/
LOCATION:IL
END:VEVENT
END:VCALENDAR