BEGIN:VCALENDAR
VERSION:2.0
PRODID:-//Prairie State Bonsai Society - ECPv6.15.20//NONSGML v1.0//EN
CALSCALE:GREGORIAN
METHOD:PUBLISH
X-WR-CALNAME:Prairie State Bonsai Society
X-ORIGINAL-URL:https://prairiestatebonsai.com
X-WR-CALDESC:Events for Prairie State Bonsai Society
REFRESH-INTERVAL;VALUE=DURATION:PT1H
X-Robots-Tag:noindex
X-PUBLISHED-TTL:PT1H
BEGIN:VTIMEZONE
TZID:America/Chicago
BEGIN:DAYLIGHT
TZOFFSETFROM:-0600
TZOFFSETTO:-0500
TZNAME:CDT
DTSTART:20230312T080000
END:DAYLIGHT
BEGIN:STANDARD
TZOFFSETFROM:-0500
TZOFFSETTO:-0600
TZNAME:CST
DTSTART:20231105T070000
END:STANDARD
BEGIN:DAYLIGHT
TZOFFSETFROM:-0600
TZOFFSETTO:-0500
TZNAME:CDT
DTSTART:20240310T080000
END:DAYLIGHT
BEGIN:STANDARD
TZOFFSETFROM:-0500
TZOFFSETTO:-0600
TZNAME:CST
DTSTART:20241103T070000
END:STANDARD
BEGIN:DAYLIGHT
TZOFFSETFROM:-0600
TZOFFSETTO:-0500
TZNAME:CDT
DTSTART:20250309T080000
END:DAYLIGHT
BEGIN:STANDARD
TZOFFSETFROM:-0500
TZOFFSETTO:-0600
TZNAME:CST
DTSTART:20251102T070000
END:STANDARD
END:VTIMEZONE
BEGIN:VEVENT
DTSTART;VALUE=DATE:20240509
DTEND;VALUE=DATE:20240513
DTSTAMP:20260424T214927
CREATED:20240314T142617Z
LAST-MODIFIED:20240314T142617Z
UID:14898-1715212800-1715558399@prairiestatebonsai.com
SUMMARY:ABS Learning Seminar Grand Rapids 2024
DESCRIPTION:Welcome To The\n\n\n\n\nAmerican Bonsai Society\nLearning Seminars 2024\n\n\n\n\nMay 9-12\,2024\nGrand Rapids\, MI\n\n\n\n\nRegister Now!\n\n\n 
URL:https://prairiestatebonsai.com/event/abs-learning-seminar-grand-rapids-2024/
LOCATION:IL
END:VEVENT
BEGIN:VEVENT
DTSTART;TZID=America/Chicago:20240510T090000
DTEND;TZID=America/Chicago:20240512T170000
DTSTAMP:20260424T214927
CREATED:20240314T144225Z
LAST-MODIFIED:20240314T144225Z
UID:14911-1715331600-1715533200@prairiestatebonsai.com
SUMMARY:MEIJER GARDENS MICHIGAN ALL-STATE BONSAI SHOW
DESCRIPTION:Friday\, May 10: Vendors and Displays\, 9 am–5 pm\nSaturday\, May 11: Vendors and Displays 9 am-5 pm\nSunday\, May 12: Vendors and Displays\, 11 am-5 pm \nFee: Bonsai Show admission is complimentary. \nPreregistration is required for Bonsai in the Garden Learning Seminars. \nThis year’s Bonsai Show will be larger\, more inspiring\, and more exciting than ever before! During our show\, the American Bonsai Society joins us to present Bonsai in the Garden Learning Seminars. This national gathering will attract bonsai artists\, enthusiasts\, and some of the nation’s top presenters. Many stunning bonsai will be displayed in the Huizenga Grand Room\, Friday through Sunday. On Friday only: A New-Talent Contest will feature a special display by emerging bonsai artists. \nREAD MORE \n  \n 
URL:https://prairiestatebonsai.com/event/meijer-gardens-michigan-all-state-bonsai-show/
LOCATION:IL
END:VEVENT
END:VCALENDAR