BEGIN:VCALENDAR
VERSION:2.0
PRODID:-//Prairie State Bonsai Society - ECPv6.15.20//NONSGML v1.0//EN
CALSCALE:GREGORIAN
METHOD:PUBLISH
X-WR-CALNAME:Prairie State Bonsai Society
X-ORIGINAL-URL:https://prairiestatebonsai.com
X-WR-CALDESC:Events for Prairie State Bonsai Society
REFRESH-INTERVAL;VALUE=DURATION:PT1H
X-Robots-Tag:noindex
X-PUBLISHED-TTL:PT1H
BEGIN:VTIMEZONE
TZID:America/Chicago
BEGIN:DAYLIGHT
TZOFFSETFROM:-0600
TZOFFSETTO:-0500
TZNAME:CDT
DTSTART:20230312T080000
END:DAYLIGHT
BEGIN:STANDARD
TZOFFSETFROM:-0500
TZOFFSETTO:-0600
TZNAME:CST
DTSTART:20231105T070000
END:STANDARD
BEGIN:DAYLIGHT
TZOFFSETFROM:-0600
TZOFFSETTO:-0500
TZNAME:CDT
DTSTART:20240310T080000
END:DAYLIGHT
BEGIN:STANDARD
TZOFFSETFROM:-0500
TZOFFSETTO:-0600
TZNAME:CST
DTSTART:20241103T070000
END:STANDARD
BEGIN:DAYLIGHT
TZOFFSETFROM:-0600
TZOFFSETTO:-0500
TZNAME:CDT
DTSTART:20250309T080000
END:DAYLIGHT
BEGIN:STANDARD
TZOFFSETFROM:-0500
TZOFFSETTO:-0600
TZNAME:CST
DTSTART:20251102T070000
END:STANDARD
END:VTIMEZONE
BEGIN:VEVENT
DTSTART;TZID=America/Chicago:20240605T190000
DTEND;TZID=America/Chicago:20240605T210000
DTSTAMP:20260424T201658
CREATED:20240129T160815Z
LAST-MODIFIED:20240514T012327Z
UID:14508-1717614000-1717621200@prairiestatebonsai.com
SUMMARY:General Meeting - Root-Over-Rock Demonstration
DESCRIPTION:General Meeting – June 5\, 2024\nRoot over Rock Demonstration\n\n \nPlease note that our June general meeting will be held back in our old Room: 1038B in the TEC Building from 7:00 PM to 9:00 PM\n\nAs always… \nBring a tree to the meeting you have questions about.  Members are always encouraged to bring personal trees to the meetings for advice on care or styling from our many club artists.\n\nMeetings are held on the first Wednesday (or the 2nd Wednesday if immediately preceded by a holiday)  from 7:00 p.m. to 8:30 p.m. at The College of Dupage campus in the TEC 1038b. \nThe college address is 425 Fawell Boulevard\, Glen Ellyn\, Illinois. \nMembers who are unable to attend in person may join via ZOOM. \n \n \n \n\n\n\n\n Add to calendar
URL:https://prairiestatebonsai.com/event/general-meeting-june-5-2024/
LOCATION:IL
END:VEVENT
END:VCALENDAR