BEGIN:VCALENDAR
VERSION:2.0
PRODID:-//Prairie State Bonsai Society - ECPv6.15.20//NONSGML v1.0//EN
CALSCALE:GREGORIAN
METHOD:PUBLISH
X-ORIGINAL-URL:https://prairiestatebonsai.com
X-WR-CALDESC:Events for Prairie State Bonsai Society
REFRESH-INTERVAL;VALUE=DURATION:PT1H
X-Robots-Tag:noindex
X-PUBLISHED-TTL:PT1H
BEGIN:VTIMEZONE
TZID:America/Chicago
BEGIN:DAYLIGHT
TZOFFSETFROM:-0600
TZOFFSETTO:-0500
TZNAME:CDT
DTSTART:20240310T080000
END:DAYLIGHT
BEGIN:STANDARD
TZOFFSETFROM:-0500
TZOFFSETTO:-0600
TZNAME:CST
DTSTART:20241103T070000
END:STANDARD
BEGIN:DAYLIGHT
TZOFFSETFROM:-0600
TZOFFSETTO:-0500
TZNAME:CDT
DTSTART:20250309T080000
END:DAYLIGHT
BEGIN:STANDARD
TZOFFSETFROM:-0500
TZOFFSETTO:-0600
TZNAME:CST
DTSTART:20251102T070000
END:STANDARD
BEGIN:DAYLIGHT
TZOFFSETFROM:-0600
TZOFFSETTO:-0500
TZNAME:CDT
DTSTART:20260308T080000
END:DAYLIGHT
BEGIN:STANDARD
TZOFFSETFROM:-0500
TZOFFSETTO:-0600
TZNAME:CST
DTSTART:20261101T070000
END:STANDARD
END:VTIMEZONE
BEGIN:VEVENT
DTSTART;TZID=America/Chicago:20250114T190000
DTEND;TZID=America/Chicago:20250114T193000
DTSTAMP:20260424T102627
CREATED:20241130T165358Z
LAST-MODIFIED:20241130T170008Z
UID:15725-1736881200-1736883000@prairiestatebonsai.com
SUMMARY:Meeting of the Board
DESCRIPTION:Meeting of the Board\n\nJanuary 14th @ 7:00 pm – 7:30 pm\n\n\n \n\n\nBoard Officers\, \nAs you may recall from our November Board Meeting\, we have an unusual board meeting scheduled for January 14\, 2025. While we typically skip meetings in December and January\, this brief session (20 to 25 minutes) will focus on three key agenda items: \n\nSecretary’s Report – Approval of November 12\, 2024\, minutes (5 minutes)\nTreasurer’s Report – Year-end summary review and approval (6 minutes)\nSpecial Events – Silhouette Show discussion (13 minutes)\nAdjournment Motion (1 minute)\n\nThank you for your time and dedication to the Society. I look forward to seeing you all there. \nBest regards\,\nBadar Zulqarni\nPresident\, Prairie State Bonsai Society \n\n\nTo join\, log into your account and navigate to Board Meetings under the Members Section.
URL:https://prairiestatebonsai.com/event/meeting-of-the-board/
LOCATION:IL
END:VEVENT
END:VCALENDAR