BEGIN:VCALENDAR
VERSION:2.0
PRODID:-//Prairie State Bonsai Society - ECPv6.15.20//NONSGML v1.0//EN
CALSCALE:GREGORIAN
METHOD:PUBLISH
X-ORIGINAL-URL:https://prairiestatebonsai.com
X-WR-CALDESC:Events for Prairie State Bonsai Society
REFRESH-INTERVAL;VALUE=DURATION:PT1H
X-Robots-Tag:noindex
X-PUBLISHED-TTL:PT1H
BEGIN:VTIMEZONE
TZID:America/Chicago
BEGIN:DAYLIGHT
TZOFFSETFROM:-0600
TZOFFSETTO:-0500
TZNAME:CDT
DTSTART:20240310T080000
END:DAYLIGHT
BEGIN:STANDARD
TZOFFSETFROM:-0500
TZOFFSETTO:-0600
TZNAME:CST
DTSTART:20241103T070000
END:STANDARD
BEGIN:DAYLIGHT
TZOFFSETFROM:-0600
TZOFFSETTO:-0500
TZNAME:CDT
DTSTART:20250309T080000
END:DAYLIGHT
BEGIN:STANDARD
TZOFFSETFROM:-0500
TZOFFSETTO:-0600
TZNAME:CST
DTSTART:20251102T070000
END:STANDARD
BEGIN:DAYLIGHT
TZOFFSETFROM:-0600
TZOFFSETTO:-0500
TZNAME:CDT
DTSTART:20260308T080000
END:DAYLIGHT
BEGIN:STANDARD
TZOFFSETFROM:-0500
TZOFFSETTO:-0600
TZNAME:CST
DTSTART:20261101T070000
END:STANDARD
END:VTIMEZONE
BEGIN:VEVENT
DTSTART;TZID=America/Chicago:20250205T190000
DTEND;TZID=America/Chicago:20250205T210000
DTSTAMP:20260424T083439
CREATED:20240129T162826Z
LAST-MODIFIED:20250129T144548Z
UID:14521-1738782000-1738789200@prairiestatebonsai.com
SUMMARY:General Meeting February 2025
DESCRIPTION:Meeting Topic\nFebruary meeting ( 2024 Arboretum show\, Video of judge critiquing trees) \nWe will feature an exciting video presentation of Chris Baker and Jennifer Price-Svihla critiquing trees displayed during our DA Show. This session promises an invaluable opportunity for our members and artists to gain insights and refine their bonsai skills. Don’t miss this chance to learn and grow—mark your calendar for the February 5\, 2025 meeting! \n\nAs always… \nBring a tree to the meeting you have questions about.  Members are always encouraged to bring personal trees to the meetings for advice on care or styling from our many club artists.\n  \n\nMeetings are held on the first Wednesday (or the second Wednesday if immediately preceding a holiday) from 7:00 p.m. to 8:30 p.m. at the College of Dupage campus in TEC 1038b. \nThe college address is 425 Fawell Boulevard\, Glen Ellyn\, Illinois. \nMembers who are unable to attend in person may join via ZOOM.
URL:https://prairiestatebonsai.com/event/february-5-2025/
LOCATION:IL
END:VEVENT
END:VCALENDAR