BEGIN:VCALENDAR
VERSION:2.0
PRODID:-//Prairie State Bonsai Society - ECPv6.15.20//NONSGML v1.0//EN
CALSCALE:GREGORIAN
METHOD:PUBLISH
X-WR-CALNAME:Prairie State Bonsai Society
X-ORIGINAL-URL:https://prairiestatebonsai.com
X-WR-CALDESC:Events for Prairie State Bonsai Society
REFRESH-INTERVAL;VALUE=DURATION:PT1H
X-Robots-Tag:noindex
X-PUBLISHED-TTL:PT1H
BEGIN:VTIMEZONE
TZID:America/Chicago
BEGIN:DAYLIGHT
TZOFFSETFROM:-0600
TZOFFSETTO:-0500
TZNAME:CDT
DTSTART:20240310T080000
END:DAYLIGHT
BEGIN:STANDARD
TZOFFSETFROM:-0500
TZOFFSETTO:-0600
TZNAME:CST
DTSTART:20241103T070000
END:STANDARD
BEGIN:DAYLIGHT
TZOFFSETFROM:-0600
TZOFFSETTO:-0500
TZNAME:CDT
DTSTART:20250309T080000
END:DAYLIGHT
BEGIN:STANDARD
TZOFFSETFROM:-0500
TZOFFSETTO:-0600
TZNAME:CST
DTSTART:20251102T070000
END:STANDARD
BEGIN:DAYLIGHT
TZOFFSETFROM:-0600
TZOFFSETTO:-0500
TZNAME:CDT
DTSTART:20260308T080000
END:DAYLIGHT
BEGIN:STANDARD
TZOFFSETFROM:-0500
TZOFFSETTO:-0600
TZNAME:CST
DTSTART:20261101T070000
END:STANDARD
END:VTIMEZONE
BEGIN:VEVENT
DTSTART;TZID=America/Chicago:20250530T100000
DTEND;TZID=America/Chicago:20250601T170000
DTSTAMP:20260424T024306
CREATED:20250129T222017Z
LAST-MODIFIED:20250129T222127Z
UID:15881-1748599200-1748797200@prairiestatebonsai.com
SUMMARY:3rd Annual Bonsai Weekend
DESCRIPTION:3rd Annual Bonsai Weekend\n \nSave the Date!\nFriday\, May 30 – Sunday\, June 1\, 2025\n$12 in advance\, $15 at the door\nFREE ages 16 and under \nFeaturing Owen Reich as our special guest judge! \nLearn More
URL:https://prairiestatebonsai.com/event/3rd-annual-bonsai-weekend/
LOCATION:Waterfront Botanical Gardens\, 1435 Frankfort Avenue Louisville\, KY 40206\, Louisville\, KY\, 40206\, United States
END:VEVENT
END:VCALENDAR