BEGIN:VCALENDAR
VERSION:2.0
PRODID:-//Prairie State Bonsai Society - ECPv6.15.20//NONSGML v1.0//EN
CALSCALE:GREGORIAN
METHOD:PUBLISH
X-ORIGINAL-URL:https://prairiestatebonsai.com
X-WR-CALDESC:Events for Prairie State Bonsai Society
REFRESH-INTERVAL;VALUE=DURATION:PT1H
X-Robots-Tag:noindex
X-PUBLISHED-TTL:PT1H
BEGIN:VTIMEZONE
TZID:America/Chicago
BEGIN:DAYLIGHT
TZOFFSETFROM:-0600
TZOFFSETTO:-0500
TZNAME:CDT
DTSTART:20240310T080000
END:DAYLIGHT
BEGIN:STANDARD
TZOFFSETFROM:-0500
TZOFFSETTO:-0600
TZNAME:CST
DTSTART:20241103T070000
END:STANDARD
BEGIN:DAYLIGHT
TZOFFSETFROM:-0600
TZOFFSETTO:-0500
TZNAME:CDT
DTSTART:20250309T080000
END:DAYLIGHT
BEGIN:STANDARD
TZOFFSETFROM:-0500
TZOFFSETTO:-0600
TZNAME:CST
DTSTART:20251102T070000
END:STANDARD
BEGIN:DAYLIGHT
TZOFFSETFROM:-0600
TZOFFSETTO:-0500
TZNAME:CDT
DTSTART:20260308T080000
END:DAYLIGHT
BEGIN:STANDARD
TZOFFSETFROM:-0500
TZOFFSETTO:-0600
TZNAME:CST
DTSTART:20261101T070000
END:STANDARD
END:VTIMEZONE
BEGIN:VEVENT
DTSTART;TZID=America/Chicago:20250604T190000
DTEND;TZID=America/Chicago:20250604T203000
DTSTAMP:20260424T024301
CREATED:20241114T222225Z
LAST-MODIFIED:20250429T004643Z
UID:15734-1749063600-1749069000@prairiestatebonsai.com
SUMMARY:General Meeting June 2025
DESCRIPTION:Our June general meeting will be on June 4th\, 7-9 pm. \nThis meeting will be a Garage Sale/Swap Meet meeting. Members can bring anything they want to sell or even trade…pots\, trees\, stones\, stands\, tools\, etc. The club will be selling stands (both old and the ones donated by Kelly Gaffor\, daughter of Kurt Gaffor. We may also be selling autographed tee t-shirts and an apron (signed by famous artists including Naka and Oki)\, and other items and tools. This should be a fun time and maybe a chance to add something new to your bonsai collection. Also\, don’t forget\, you can always bring a tree to get help with from our very knowledgeable members. \n  \n\nAs always… \nBring a tree to the meeting you have questions about.  Members are always encouraged to bring personal trees to the meetings for advice on care or styling from our many club artists.\n  \n\nMeetings are held on the first Wednesday (or the 2nd Wednesday if immediately preceded by a holiday)  from 7:00 p.m. to 8:30 p.m. at The College of Dupage campus in the TEC 1038b. \nThe college address is 425 Fawell Boulevard\, Glen Ellyn\, Illinois. \nMembers who are unable to attend in person may join via ZOOM.
URL:https://prairiestatebonsai.com/event/general-meeting-june-2025/
LOCATION:IL
END:VEVENT
END:VCALENDAR