BEGIN:VCALENDAR
VERSION:2.0
PRODID:-//Prairie State Bonsai Society - ECPv6.15.20//NONSGML v1.0//EN
CALSCALE:GREGORIAN
METHOD:PUBLISH
X-ORIGINAL-URL:https://prairiestatebonsai.com
X-WR-CALDESC:Events for Prairie State Bonsai Society
REFRESH-INTERVAL;VALUE=DURATION:PT1H
X-Robots-Tag:noindex
X-PUBLISHED-TTL:PT1H
BEGIN:VTIMEZONE
TZID:America/Chicago
BEGIN:DAYLIGHT
TZOFFSETFROM:-0600
TZOFFSETTO:-0500
TZNAME:CDT
DTSTART:20250309T080000
END:DAYLIGHT
BEGIN:STANDARD
TZOFFSETFROM:-0500
TZOFFSETTO:-0600
TZNAME:CST
DTSTART:20251102T070000
END:STANDARD
BEGIN:DAYLIGHT
TZOFFSETFROM:-0600
TZOFFSETTO:-0500
TZNAME:CDT
DTSTART:20260308T080000
END:DAYLIGHT
BEGIN:STANDARD
TZOFFSETFROM:-0500
TZOFFSETTO:-0600
TZNAME:CST
DTSTART:20261101T070000
END:STANDARD
BEGIN:DAYLIGHT
TZOFFSETFROM:-0600
TZOFFSETTO:-0500
TZNAME:CDT
DTSTART:20270314T080000
END:DAYLIGHT
BEGIN:STANDARD
TZOFFSETFROM:-0500
TZOFFSETTO:-0600
TZNAME:CST
DTSTART:20271107T070000
END:STANDARD
END:VTIMEZONE
BEGIN:VEVENT
DTSTART;TZID=America/Chicago:20260204T190000
DTEND;TZID=America/Chicago:20260204T210000
DTSTAMP:20260423T142159
CREATED:20260303T184419Z
LAST-MODIFIED:20260303T184419Z
UID:16565-1770231600-1770238800@prairiestatebonsai.com
SUMMARY:February Member Meeting: Soil Composition & Repotting Lecture
DESCRIPTION:Presenter: Linda Camp\nLinda Camp is a bonsai enthusiast with over 27 years of experience and partner in B.C. Bonsai for over 21 years. Based in the western Chicago suburbs\, she operates B.C. Bonsai which offers trees ranging from seedlings to 40-year-old specimens\, along with tools\, wire\, and pots. Linda serves as a Member at Large on the Midwest Bonsai Society Board and is a frequent workshop instructor and demonstrator across the Chicagoland bonsai community. \nLinda will present a soil components 101 talk covering the materials and recipes needed for repotting season\, along with a video presentation on repotting preparation. This is the perfect meeting to attend before spring repotting begins — learn what supplies to gather and how to mix your soil before the busy season hits.
URL:https://prairiestatebonsai.com/event/february-member-meeting-soil-composition-repotting-lecture/
LOCATION:College of DuPage (TEC1038B)\, 425 Fawell Blvd\, Glen Ellyn\, IL
END:VEVENT
END:VCALENDAR