BEGIN:VCALENDAR
VERSION:2.0
PRODID:-//Prairie State Bonsai Society - ECPv6.15.20//NONSGML v1.0//EN
CALSCALE:GREGORIAN
METHOD:PUBLISH
X-ORIGINAL-URL:https://prairiestatebonsai.com
X-WR-CALDESC:Events for Prairie State Bonsai Society
REFRESH-INTERVAL;VALUE=DURATION:PT1H
X-Robots-Tag:noindex
X-PUBLISHED-TTL:PT1H
BEGIN:VTIMEZONE
TZID:America/Chicago
BEGIN:DAYLIGHT
TZOFFSETFROM:-0600
TZOFFSETTO:-0500
TZNAME:CDT
DTSTART:20250309T080000
END:DAYLIGHT
BEGIN:STANDARD
TZOFFSETFROM:-0500
TZOFFSETTO:-0600
TZNAME:CST
DTSTART:20251102T070000
END:STANDARD
BEGIN:DAYLIGHT
TZOFFSETFROM:-0600
TZOFFSETTO:-0500
TZNAME:CDT
DTSTART:20260308T080000
END:DAYLIGHT
BEGIN:STANDARD
TZOFFSETFROM:-0500
TZOFFSETTO:-0600
TZNAME:CST
DTSTART:20261101T070000
END:STANDARD
BEGIN:DAYLIGHT
TZOFFSETFROM:-0600
TZOFFSETTO:-0500
TZNAME:CDT
DTSTART:20270314T080000
END:DAYLIGHT
BEGIN:STANDARD
TZOFFSETFROM:-0500
TZOFFSETTO:-0600
TZNAME:CST
DTSTART:20271107T070000
END:STANDARD
END:VTIMEZONE
BEGIN:VEVENT
DTSTART;TZID=America/Chicago:20260304T190000
DTEND;TZID=America/Chicago:20260304T210000
DTSTAMP:20260423T131110
CREATED:20260303T185511Z
LAST-MODIFIED:20260303T185511Z
UID:16568-1772650800-1772658000@prairiestatebonsai.com
SUMMARY:March Member Meeting: Board Elections & Juniper Styling Workshop
DESCRIPTION:Presenters: Linda Camp & Larry Magee\nThe meeting will begin with the annual board elections\, followed by a hands-on Juniper styling workshop. Members will work with Procumbens Nana (Shimpaku) material\, learning twisting and styling techniques. Trees are provided at approximately $30-35 each. A great opportunity for new members to jump right in with something hands-on.
URL:https://prairiestatebonsai.com/event/march-member-meeting-board-elections-juniper-styling-workshop/
LOCATION:College of DuPage (TEC1038B)\, 425 Fawell Blvd\, Glen Ellyn\, IL
END:VEVENT
END:VCALENDAR