BEGIN:VCALENDAR
VERSION:2.0
PRODID:-//Prairie State Bonsai Society - ECPv6.15.20//NONSGML v1.0//EN
CALSCALE:GREGORIAN
METHOD:PUBLISH
X-WR-CALNAME:Prairie State Bonsai Society
X-ORIGINAL-URL:https://prairiestatebonsai.com
X-WR-CALDESC:Events for Prairie State Bonsai Society
REFRESH-INTERVAL;VALUE=DURATION:PT1H
X-Robots-Tag:noindex
X-PUBLISHED-TTL:PT1H
BEGIN:VTIMEZONE
TZID:America/Chicago
BEGIN:DAYLIGHT
TZOFFSETFROM:-0600
TZOFFSETTO:-0500
TZNAME:CDT
DTSTART:20250309T080000
END:DAYLIGHT
BEGIN:STANDARD
TZOFFSETFROM:-0500
TZOFFSETTO:-0600
TZNAME:CST
DTSTART:20251102T070000
END:STANDARD
BEGIN:DAYLIGHT
TZOFFSETFROM:-0600
TZOFFSETTO:-0500
TZNAME:CDT
DTSTART:20260308T080000
END:DAYLIGHT
BEGIN:STANDARD
TZOFFSETFROM:-0500
TZOFFSETTO:-0600
TZNAME:CST
DTSTART:20261101T070000
END:STANDARD
BEGIN:DAYLIGHT
TZOFFSETFROM:-0600
TZOFFSETTO:-0500
TZNAME:CDT
DTSTART:20270314T080000
END:DAYLIGHT
BEGIN:STANDARD
TZOFFSETFROM:-0500
TZOFFSETTO:-0600
TZNAME:CST
DTSTART:20271107T070000
END:STANDARD
END:VTIMEZONE
BEGIN:VEVENT
DTSTART;TZID=America/Chicago:20260520T190000
DTEND;TZID=America/Chicago:20260520T210000
DTSTAMP:20260423T114033
CREATED:20260406T112708Z
LAST-MODIFIED:20260406T112708Z
UID:16570-1779303600-1779310800@prairiestatebonsai.com
SUMMARY:May Meeting: Mauro Stemberger Demonstration
DESCRIPTION:Guest Artist: Mauro Stemberger\nMauro Stemberger is one of the most sought-after bonsai artists in the world. Born in 1978 in Feltre\, Italy\, he trained under masters including Hotsumi Terakawa\, Marc Noelanders\, and Salvatore Liporace. An architect by profession\, Mauro founded the Italian Bonsai Dream in 2005 and the Italian Bonsai Dream School in 2011. He has been a BCI-certified bonsai instructor since 2008 and served as president of UBI (Italian Bonsai Association) from 2008-2010. \nMauro specializes in conifers — Pines\, Junipers (Itoigawa\, Sabina)\, and especially Larch — and is known for his unique styling approach and engaging teaching style. His accolades include a Gold Medal at the Noelanders Trophy\, multiple international photo competition wins\, and demonstrations at the most prestigious bonsai shows worldwide. He has over 105\,000 followers on Instagram (@bonsaidream).
URL:https://prairiestatebonsai.com/event/may-member-meeting-mauro-stemberger-demonstration/
LOCATION:College of DuPage (TEC1038B)\, 425 Fawell Blvd\, Glen Ellyn\, IL
END:VEVENT
END:VCALENDAR