BEGIN:VCALENDAR
VERSION:2.0
PRODID:-//Prairie State Bonsai Society - ECPv6.15.20//NONSGML v1.0//EN
CALSCALE:GREGORIAN
METHOD:PUBLISH
X-ORIGINAL-URL:https://prairiestatebonsai.com
X-WR-CALDESC:Events for Prairie State Bonsai Society
REFRESH-INTERVAL;VALUE=DURATION:PT1H
X-Robots-Tag:noindex
X-PUBLISHED-TTL:PT1H
BEGIN:VTIMEZONE
TZID:America/Chicago
BEGIN:DAYLIGHT
TZOFFSETFROM:-0600
TZOFFSETTO:-0500
TZNAME:CDT
DTSTART:20250309T080000
END:DAYLIGHT
BEGIN:STANDARD
TZOFFSETFROM:-0500
TZOFFSETTO:-0600
TZNAME:CST
DTSTART:20251102T070000
END:STANDARD
BEGIN:DAYLIGHT
TZOFFSETFROM:-0600
TZOFFSETTO:-0500
TZNAME:CDT
DTSTART:20260308T080000
END:DAYLIGHT
BEGIN:STANDARD
TZOFFSETFROM:-0500
TZOFFSETTO:-0600
TZNAME:CST
DTSTART:20261101T070000
END:STANDARD
BEGIN:DAYLIGHT
TZOFFSETFROM:-0600
TZOFFSETTO:-0500
TZNAME:CDT
DTSTART:20270314T080000
END:DAYLIGHT
BEGIN:STANDARD
TZOFFSETFROM:-0500
TZOFFSETTO:-0600
TZNAME:CST
DTSTART:20271107T070000
END:STANDARD
END:VTIMEZONE
BEGIN:VEVENT
DTSTART;TZID=America/Chicago:20260603T190000
DTEND;TZID=America/Chicago:20260603T210000
DTSTAMP:20260423T131107
CREATED:20260303T184432Z
LAST-MODIFIED:20260303T184432Z
UID:16571-1780513200-1780520400@prairiestatebonsai.com
SUMMARY:June Member Meeting: Satsuki Azalea Demonstration
DESCRIPTION:Guest Artist: Dave Kreutz\nDave Kreutz operates Satsuki Bonsai-en in the St. Louis metro area and is a recognized specialist in satsuki azalea bonsai. He completed formal training under Tatemori Gondo at the El Dorado Bonsai School in California during the 1990s\, graduating from a three-year program to become a certified satsuki bonsai instructor. He grows and imports diverse satsuki varieties and supplies\, with much of his inventory sourced directly from Japanese nurseries. \nDave will demonstrate styling and care techniques for azalea bonsai and typically brings trees and supplies for sale — a great opportunity to add a flowering species to your collection.
URL:https://prairiestatebonsai.com/event/june-member-meeting-satsuki-azalea-demonstration/
LOCATION:College of DuPage (TEC1038B)\, 425 Fawell Blvd\, Glen Ellyn\, IL
END:VEVENT
END:VCALENDAR