BEGIN:VCALENDAR
VERSION:2.0
PRODID:-//Prairie State Bonsai Society - ECPv6.15.20//NONSGML v1.0//EN
CALSCALE:GREGORIAN
METHOD:PUBLISH
X-WR-CALNAME:Prairie State Bonsai Society
X-ORIGINAL-URL:https://prairiestatebonsai.com
X-WR-CALDESC:Events for Prairie State Bonsai Society
REFRESH-INTERVAL;VALUE=DURATION:PT1H
X-Robots-Tag:noindex
X-PUBLISHED-TTL:PT1H
BEGIN:VTIMEZONE
TZID:America/Chicago
BEGIN:DAYLIGHT
TZOFFSETFROM:-0600
TZOFFSETTO:-0500
TZNAME:CDT
DTSTART:20250309T080000
END:DAYLIGHT
BEGIN:STANDARD
TZOFFSETFROM:-0500
TZOFFSETTO:-0600
TZNAME:CST
DTSTART:20251102T070000
END:STANDARD
BEGIN:DAYLIGHT
TZOFFSETFROM:-0600
TZOFFSETTO:-0500
TZNAME:CDT
DTSTART:20260308T080000
END:DAYLIGHT
BEGIN:STANDARD
TZOFFSETFROM:-0500
TZOFFSETTO:-0600
TZNAME:CST
DTSTART:20261101T070000
END:STANDARD
BEGIN:DAYLIGHT
TZOFFSETFROM:-0600
TZOFFSETTO:-0500
TZNAME:CDT
DTSTART:20270314T080000
END:DAYLIGHT
BEGIN:STANDARD
TZOFFSETFROM:-0500
TZOFFSETTO:-0600
TZNAME:CST
DTSTART:20271107T070000
END:STANDARD
END:VTIMEZONE
BEGIN:VEVENT
DTSTART;VALUE=DATE:20260801
DTEND;VALUE=DATE:20260803
DTSTAMP:20260423T155557
CREATED:20260303T201618Z
LAST-MODIFIED:20260303T201618Z
UID:16575-1785542400-1785715199@prairiestatebonsai.com
SUMMARY:Destination Asia Festival
DESCRIPTION:Saturday\, August 1: 9:00 AM – 4:30 PMSunday\, August 2: 9:00 AM – 4:30 PM \nGuest Judge: Peter Chan\nThe premier bonsai exhibition of the year at the Morton Arboretum\, featuring bonsai displays from across the Midwest\, vendor sales\, and workshops led by world-class artists. \nPeter Chan is the doyen of bonsai in the United Kingdom. He is a self-taught bonsai artist whose journey began on a London balcony in the late 1960s. In 1986\, he and his wife Dawn founded Herons Bonsai\, which became Britain’s premier bonsai nursery. Peter holds the extraordinary record of 21 Chelsea Flower Show Gold Medals — a feat unmatched by any other bonsai specialist. He served as Chairman of the British Bonsai Association (1980-1987) and is a founding member of the Federation of British Bonsai Societies. His first book\, Bonsai: The Art of Growing and Keeping Miniature Trees (1985)\, remains a world bestseller still in print. His YouTube channel has over 500\,000 subscribers and 70 million views. \nPeter will conduct 4 workshops (2 per day) and serve as judge for the exhibition. 8 workshops are planned across the weekend\, running 9 AM–noon and 1:30–4:30 PM.
URL:https://prairiestatebonsai.com/event/destination-asia-festival-4/
LOCATION:The Morton Arboretum\, 4100 Illinois Route 53\, Lisle\, IL\, US
END:VEVENT
END:VCALENDAR