BEGIN:VCALENDAR
VERSION:2.0
PRODID:-//Prairie State Bonsai Society - ECPv6.15.20//NONSGML v1.0//EN
CALSCALE:GREGORIAN
METHOD:PUBLISH
X-WR-CALNAME:Prairie State Bonsai Society
X-ORIGINAL-URL:https://prairiestatebonsai.com
X-WR-CALDESC:Events for Prairie State Bonsai Society
REFRESH-INTERVAL;VALUE=DURATION:PT1H
X-Robots-Tag:noindex
X-PUBLISHED-TTL:PT1H
BEGIN:VTIMEZONE
TZID:America/Chicago
BEGIN:DAYLIGHT
TZOFFSETFROM:-0600
TZOFFSETTO:-0500
TZNAME:CDT
DTSTART:20250309T080000
END:DAYLIGHT
BEGIN:STANDARD
TZOFFSETFROM:-0500
TZOFFSETTO:-0600
TZNAME:CST
DTSTART:20251102T070000
END:STANDARD
BEGIN:DAYLIGHT
TZOFFSETFROM:-0600
TZOFFSETTO:-0500
TZNAME:CDT
DTSTART:20260308T080000
END:DAYLIGHT
BEGIN:STANDARD
TZOFFSETFROM:-0500
TZOFFSETTO:-0600
TZNAME:CST
DTSTART:20261101T070000
END:STANDARD
BEGIN:DAYLIGHT
TZOFFSETFROM:-0600
TZOFFSETTO:-0500
TZNAME:CDT
DTSTART:20270314T080000
END:DAYLIGHT
BEGIN:STANDARD
TZOFFSETFROM:-0500
TZOFFSETTO:-0600
TZNAME:CST
DTSTART:20271107T070000
END:STANDARD
END:VTIMEZONE
BEGIN:VEVENT
DTSTART;TZID=America/Chicago:20260614T110000
DTEND;TZID=America/Chicago:20260614T150000
DTSTAMP:20260423T172929
CREATED:20260303T201230Z
LAST-MODIFIED:20260303T201230Z
UID:16573-1781434800-1781449200@prairiestatebonsai.com
SUMMARY:Annual Club Picnic
DESCRIPTION:Join us for the annual PSBS summer picnic at the beautiful Blackwell Forest Preserve. Enjoy a relaxed afternoon of food\, conversation\, and camaraderie with fellow bonsai enthusiasts and their families. A guest bonsai artist will be in attendance. Bring a dish to share\, your lawn chairs\, and your appetite — details on timing to follow.
URL:https://prairiestatebonsai.com/event/annual-club-picnic/
LOCATION:Blackwell Forest Preserve\, Warrenville\, IL\, US
END:VEVENT
BEGIN:VEVENT
DTSTART;TZID=America/Chicago:20260708T190000
DTEND;TZID=America/Chicago:20260708T210000
DTSTAMP:20260423T172929
CREATED:20260303T184437Z
LAST-MODIFIED:20260303T184437Z
UID:16574-1783537200-1783544400@prairiestatebonsai.com
SUMMARY:July Member Meeting: Show Prep & Tree Evaluation
DESCRIPTION:Moved to the second Wednesday due to the July 4th holiday. \nPhil Malhoit or Larry Magee will lead a show preparation workshop and discussion. With the Destination Asia festival just weeks away (August 1-2)\, this is the time to evaluate your trees for exhibition readiness — learn about display techniques\, accent plants\, stands\, and the judging criteria used at formal bonsai shows.
URL:https://prairiestatebonsai.com/event/july-member-meeting-show-prep-tree-evaluation/
LOCATION:College of DuPage (TEC1038B)\, 425 Fawell Blvd\, Glen Ellyn\, IL
END:VEVENT
BEGIN:VEVENT
DTSTART;VALUE=DATE:20260801
DTEND;VALUE=DATE:20260803
DTSTAMP:20260423T172929
CREATED:20260303T201618Z
LAST-MODIFIED:20260303T201618Z
UID:16575-1785542400-1785715199@prairiestatebonsai.com
SUMMARY:Destination Asia Festival
DESCRIPTION:Saturday\, August 1: 9:00 AM – 4:30 PMSunday\, August 2: 9:00 AM – 4:30 PM \nGuest Judge: Peter Chan\nThe premier bonsai exhibition of the year at the Morton Arboretum\, featuring bonsai displays from across the Midwest\, vendor sales\, and workshops led by world-class artists. \nPeter Chan is the doyen of bonsai in the United Kingdom. He is a self-taught bonsai artist whose journey began on a London balcony in the late 1960s. In 1986\, he and his wife Dawn founded Herons Bonsai\, which became Britain’s premier bonsai nursery. Peter holds the extraordinary record of 21 Chelsea Flower Show Gold Medals — a feat unmatched by any other bonsai specialist. He served as Chairman of the British Bonsai Association (1980-1987) and is a founding member of the Federation of British Bonsai Societies. His first book\, Bonsai: The Art of Growing and Keeping Miniature Trees (1985)\, remains a world bestseller still in print. His YouTube channel has over 500\,000 subscribers and 70 million views. \nPeter will conduct 4 workshops (2 per day) and serve as judge for the exhibition. 8 workshops are planned across the weekend\, running 9 AM–noon and 1:30–4:30 PM.
URL:https://prairiestatebonsai.com/event/destination-asia-festival-4/
LOCATION:The Morton Arboretum\, 4100 Illinois Route 53\, Lisle\, IL\, US
END:VEVENT
BEGIN:VEVENT
DTSTART;TZID=America/Chicago:20260805T190000
DTEND;TZID=America/Chicago:20260805T210000
DTSTAMP:20260423T172929
CREATED:20260303T185515Z
LAST-MODIFIED:20260303T185515Z
UID:16576-1785956400-1785963600@prairiestatebonsai.com
SUMMARY:August Member Meeting: Program TBD
DESCRIPTION:Program to be announced. Check back for updates as the program is finalized.
URL:https://prairiestatebonsai.com/event/august-member-meeting-program-tbd/
LOCATION:College of DuPage (TEC1038B)\, 425 Fawell Blvd\, Glen Ellyn\, IL
END:VEVENT
BEGIN:VEVENT
DTSTART;TZID=America/Chicago:20260909T190000
DTEND;TZID=America/Chicago:20260909T210000
DTSTAMP:20260423T172929
CREATED:20260303T185517Z
LAST-MODIFIED:20260303T185517Z
UID:16577-1788980400-1788987600@prairiestatebonsai.com
SUMMARY:September Member Meeting: Program TBD
DESCRIPTION:Moved to the second Wednesday due to the Labor Day holiday. \nProgram to be announced. Check back for updates as the program is finalized.
URL:https://prairiestatebonsai.com/event/september-member-meeting-program-tbd/
LOCATION:College of DuPage (TEC1038B)\, 425 Fawell Blvd\, Glen Ellyn\, IL
END:VEVENT
BEGIN:VEVENT
DTSTART;TZID=America/Chicago:20261007T190000
DTEND;TZID=America/Chicago:20261007T210000
DTSTAMP:20260423T172929
CREATED:20260303T184447Z
LAST-MODIFIED:20260303T184447Z
UID:16578-1791399600-1791406800@prairiestatebonsai.com
SUMMARY:October Member Meeting: Iron Bonsai Competition
DESCRIPTION:The annual Iron Bonsai event — one of the most entertaining meetings of the year! Inspired by the TV cooking show format\, experienced bonsai artists compete head-to-head\, each styling raw material into a finished bonsai within a limited time while the audience watches. Come watch the drama unfold and vote for your favorite creation.
URL:https://prairiestatebonsai.com/event/october-member-meeting-iron-bonsai-competition/
LOCATION:College of DuPage (TEC1038B)\, 425 Fawell Blvd\, Glen Ellyn\, IL
END:VEVENT
BEGIN:VEVENT
DTSTART;TZID=America/Chicago:20261104T190000
DTEND;TZID=America/Chicago:20261104T210000
DTSTAMP:20260423T172929
CREATED:20260303T184450Z
LAST-MODIFIED:20260303T184450Z
UID:16579-1793818800-1793826000@prairiestatebonsai.com
SUMMARY:November Member Meeting: Program TBD
DESCRIPTION:Program to be announced. In past years\, November meetings have featured topics on winter storage and care of bonsai\, preparing trees for dormancy\, and other seasonal subjects. Check back for updates.
URL:https://prairiestatebonsai.com/event/november-member-meeting-program-tbd/
LOCATION:College of DuPage (TEC1038B)\, 425 Fawell Blvd\, Glen Ellyn\, IL
END:VEVENT
END:VCALENDAR