BEGIN:VCALENDAR
VERSION:2.0
PRODID:-//Prairie State Bonsai Society - ECPv6.15.20//NONSGML v1.0//EN
CALSCALE:GREGORIAN
METHOD:PUBLISH
X-WR-CALNAME:Prairie State Bonsai Society
X-ORIGINAL-URL:https://prairiestatebonsai.com
X-WR-CALDESC:Events for Prairie State Bonsai Society
REFRESH-INTERVAL;VALUE=DURATION:PT1H
X-Robots-Tag:noindex
X-PUBLISHED-TTL:PT1H
BEGIN:VTIMEZONE
TZID:America/Chicago
BEGIN:DAYLIGHT
TZOFFSETFROM:-0600
TZOFFSETTO:-0500
TZNAME:CDT
DTSTART:20250309T080000
END:DAYLIGHT
BEGIN:STANDARD
TZOFFSETFROM:-0500
TZOFFSETTO:-0600
TZNAME:CST
DTSTART:20251102T070000
END:STANDARD
BEGIN:DAYLIGHT
TZOFFSETFROM:-0600
TZOFFSETTO:-0500
TZNAME:CDT
DTSTART:20260308T080000
END:DAYLIGHT
BEGIN:STANDARD
TZOFFSETFROM:-0500
TZOFFSETTO:-0600
TZNAME:CST
DTSTART:20261101T070000
END:STANDARD
BEGIN:DAYLIGHT
TZOFFSETFROM:-0600
TZOFFSETTO:-0500
TZNAME:CDT
DTSTART:20270314T080000
END:DAYLIGHT
BEGIN:STANDARD
TZOFFSETFROM:-0500
TZOFFSETTO:-0600
TZNAME:CST
DTSTART:20271107T070000
END:STANDARD
END:VTIMEZONE
BEGIN:VEVENT
DTSTART;TZID=America/Chicago:20261007T190000
DTEND;TZID=America/Chicago:20261007T210000
DTSTAMP:20260423T160204
CREATED:20260303T184447Z
LAST-MODIFIED:20260303T184447Z
UID:16578-1791399600-1791406800@prairiestatebonsai.com
SUMMARY:October Member Meeting: Iron Bonsai Competition
DESCRIPTION:The annual Iron Bonsai event — one of the most entertaining meetings of the year! Inspired by the TV cooking show format\, experienced bonsai artists compete head-to-head\, each styling raw material into a finished bonsai within a limited time while the audience watches. Come watch the drama unfold and vote for your favorite creation.
URL:https://prairiestatebonsai.com/event/october-member-meeting-iron-bonsai-competition/
LOCATION:College of DuPage (TEC1038B)\, 425 Fawell Blvd\, Glen Ellyn\, IL
END:VEVENT
BEGIN:VEVENT
DTSTART;TZID=America/Chicago:20261104T190000
DTEND;TZID=America/Chicago:20261104T210000
DTSTAMP:20260423T160204
CREATED:20260303T184450Z
LAST-MODIFIED:20260303T184450Z
UID:16579-1793818800-1793826000@prairiestatebonsai.com
SUMMARY:November Member Meeting: Program TBD
DESCRIPTION:Program to be announced. In past years\, November meetings have featured topics on winter storage and care of bonsai\, preparing trees for dormancy\, and other seasonal subjects. Check back for updates.
URL:https://prairiestatebonsai.com/event/november-member-meeting-program-tbd/
LOCATION:College of DuPage (TEC1038B)\, 425 Fawell Blvd\, Glen Ellyn\, IL
END:VEVENT
END:VCALENDAR