BEGIN:VCALENDAR
VERSION:2.0
PRODID:-//Prairie State Bonsai Society - ECPv6.15.20//NONSGML v1.0//EN
CALSCALE:GREGORIAN
METHOD:PUBLISH
X-WR-CALNAME:Prairie State Bonsai Society
X-ORIGINAL-URL:https://prairiestatebonsai.com
X-WR-CALDESC:Events for Prairie State Bonsai Society
REFRESH-INTERVAL;VALUE=DURATION:PT1H
X-Robots-Tag:noindex
X-PUBLISHED-TTL:PT1H
BEGIN:VTIMEZONE
TZID:America/Chicago
BEGIN:DAYLIGHT
TZOFFSETFROM:-0600
TZOFFSETTO:-0500
TZNAME:CDT
DTSTART:20220313T080000
END:DAYLIGHT
BEGIN:STANDARD
TZOFFSETFROM:-0500
TZOFFSETTO:-0600
TZNAME:CST
DTSTART:20221106T070000
END:STANDARD
BEGIN:DAYLIGHT
TZOFFSETFROM:-0600
TZOFFSETTO:-0500
TZNAME:CDT
DTSTART:20230312T080000
END:DAYLIGHT
BEGIN:STANDARD
TZOFFSETFROM:-0500
TZOFFSETTO:-0600
TZNAME:CST
DTSTART:20231105T070000
END:STANDARD
BEGIN:DAYLIGHT
TZOFFSETFROM:-0600
TZOFFSETTO:-0500
TZNAME:CDT
DTSTART:20240310T080000
END:DAYLIGHT
BEGIN:STANDARD
TZOFFSETFROM:-0500
TZOFFSETTO:-0600
TZNAME:CST
DTSTART:20241103T070000
END:STANDARD
END:VTIMEZONE
BEGIN:VEVENT
DTSTART;TZID=America/Chicago:20230201T190000
DTEND;TZID=America/Chicago:20230201T203000
DTSTAMP:20260425T225959
CREATED:20221109T001228Z
LAST-MODIFIED:20230125T172003Z
UID:10738-1675278000-1675283400@prairiestatebonsai.com
SUMMARY:General Meeting February 2023
DESCRIPTION:Join us for the first meeting of 2023! We will view the official club video from the Destination Asia show and open the floor to discuss the show. As always\, feel free to bring any trees you need advice from other members! \nREMINDER: If you ordered club shirts or hats\, you could pick them up at this meeting in person. \n\nMeetings are held on the first Wednesday from 7:00 pm to 8:30 pm at The College of Dupage campus in the TEC 1038b. \nThe college address is 425 Fawell Boulevard\, Glen Ellyn\, Illinois. \nMembers who are unable to attend in person may join via ZOOM.
URL:https://prairiestatebonsai.com/event/general-meeting-february-2023/
LOCATION:IL
END:VEVENT
BEGIN:VEVENT
DTSTART;TZID=America/Chicago:20230218T100000
DTEND;TZID=America/Chicago:20230218T160000
DTSTAMP:20260425T225959
CREATED:20221020T143902Z
LAST-MODIFIED:20230218T002704Z
UID:10226-1676714400-1676736000@prairiestatebonsai.com
SUMMARY:Winter Silhouette Exhibit
DESCRIPTION:The 3rd annual PSBS Winter Silhouette Bonsai Exhibit is at Cantigny Park in Wheaton\, IL.\n  \nA Silhouette exhibit displays the bonsai without leaves which may seem a little strange\, but it is a great time to see the trees’ structure\, especially the ramification. \nThe exhibit will last one day on Saturday\, February 18\, 2022\, from 10 am to 4 pm.  Both members and non-members are welcome to display their deciduous trees in the natural winter stage of development.  Everyone is welcome to visit the exhibit at no charge.  There is a $5.00 charge for parking collected at the gate. \nThe setup for the event will begin on Friday\, February 17\, 2022.  Contact Nick DiBattista with the number of trees you wish to display or how many tables you wish to reserve if you consider vending at the exhibit.  You may also email prairiestatebonsai@gmail.com with ‘Winter Silhouette‘ in the subject line. \n 
URL:https://prairiestatebonsai.com/event/winter-sihouette-exhibit/
LOCATION:IL
END:VEVENT
END:VCALENDAR