BEGIN:VCALENDAR
VERSION:2.0
PRODID:-//Prairie State Bonsai Society - ECPv6.15.20//NONSGML v1.0//EN
CALSCALE:GREGORIAN
METHOD:PUBLISH
X-WR-CALNAME:Prairie State Bonsai Society
X-ORIGINAL-URL:https://prairiestatebonsai.com
X-WR-CALDESC:Events for Prairie State Bonsai Society
REFRESH-INTERVAL;VALUE=DURATION:PT1H
X-Robots-Tag:noindex
X-PUBLISHED-TTL:PT1H
BEGIN:VTIMEZONE
TZID:America/Chicago
BEGIN:DAYLIGHT
TZOFFSETFROM:-0600
TZOFFSETTO:-0500
TZNAME:CDT
DTSTART:20220313T080000
END:DAYLIGHT
BEGIN:STANDARD
TZOFFSETFROM:-0500
TZOFFSETTO:-0600
TZNAME:CST
DTSTART:20221106T070000
END:STANDARD
BEGIN:DAYLIGHT
TZOFFSETFROM:-0600
TZOFFSETTO:-0500
TZNAME:CDT
DTSTART:20230312T080000
END:DAYLIGHT
BEGIN:STANDARD
TZOFFSETFROM:-0500
TZOFFSETTO:-0600
TZNAME:CST
DTSTART:20231105T070000
END:STANDARD
BEGIN:DAYLIGHT
TZOFFSETFROM:-0600
TZOFFSETTO:-0500
TZNAME:CDT
DTSTART:20240310T080000
END:DAYLIGHT
BEGIN:STANDARD
TZOFFSETFROM:-0500
TZOFFSETTO:-0600
TZNAME:CST
DTSTART:20241103T070000
END:STANDARD
END:VTIMEZONE
BEGIN:VEVENT
DTSTART;TZID=America/Chicago:20231004T190000
DTEND;TZID=America/Chicago:20231004T203000
DTSTAMP:20260425T064041
CREATED:20221109T004314Z
LAST-MODIFIED:20231002T152704Z
UID:10754-1696446000-1696451400@prairiestatebonsai.com
SUMMARY:General Meeting - October 2023
DESCRIPTION:  \nGeneral Meeting – October 4\, 2023\n \nAll about pines\nLarry Magee will demonstrate how to work with your pines at this time of the year. \nBring a pine of your own for help with pine candle pruning. \nLarry will also show his PowerPoint Show of his trip to Japan. \n\n  \nHere is one of the items for the monthly raffle. \nFicus benjamina\n  \nAs always… \nBring a tree to the meeting you have questions about.  Members are always encouraged to bring personal trees to the meetings for advice on care or styling from our many club artists.\n\nMeetings are held on the first Wednesday (or the 2nd Wednesday if immediately preceded by a holiday)  from 7:00 p.m. to 8:30 p.m. at The College of Dupage campus in the TEC 1038b. \nThe college address is 425 Fawell Boulevard\, Glen Ellyn\, Illinois. \nMembers who are unable to attend in person may join via ZOOM.
URL:https://prairiestatebonsai.com/event/general-meeting-october-2023/
LOCATION:IL
END:VEVENT
BEGIN:VEVENT
DTSTART;TZID=America/Chicago:20231010T190000
DTEND;TZID=America/Chicago:20231010T203000
DTSTAMP:20260425T064041
CREATED:20230929T125136Z
LAST-MODIFIED:20230929T125222Z
UID:13621-1696964400-1696969800@prairiestatebonsai.com
SUMMARY:Meeting of the Board - October 10\, 2023
DESCRIPTION:May 9\, 2023 – Meeting of the Board\nTo join\, log into your account and navigate to Board Meetings under the Members Section.
URL:https://prairiestatebonsai.com/event/meeting-of-the-board-october-10-2023/
LOCATION:IL
END:VEVENT
BEGIN:VEVENT
DTSTART;TZID=America/Chicago:20231022T123000
DTEND;TZID=America/Chicago:20231022T170000
DTSTAMP:20260425T064041
CREATED:20230928T235719Z
LAST-MODIFIED:20231020T122847Z
UID:13613-1697977800-1697994000@prairiestatebonsai.com
SUMMARY:Membership Promotion Event on the Riverwalk
DESCRIPTION:Membership Promotion Event on the Riverwalk\n \nNOTICE: The event time has been changed. We will start at 12:30 p.m. and end at 5:00 p.m.\nDue to the ‘Healthy Driven Naperville Marathon’ on the same day\, roads will be closed (Marathon Map Link)\n Riverwalk Overlook Naperville\, IL \nMembership Promotion Event on the Riverwalk\n\nOctober 22 | 12:30 am – 5:00 pm | Smykal Pavilion | Downtown Naperville\, 188 W Jackson Ave\, Naperville\, IL 60540\, United States\n\n\n\n\nJoin the club for our first-ever membership promotion event! Relax on the beautiful downtown Naperville Riverwalk\, work on a tree\, and hang out with other members.\n\nThis event is a “free-speech” promotional event. The goal will be to engage passersby and try to encourage and gain new members to the club. While attending\, we hope members can take turns chatting with and engaging potential members who will stop by and see what bonsai is about. Let’s help the club grow!\n\nA senior club member will also do a short demonstration in the afternoon.\n\nFood is only allowed for yourself and not for sharing with others or the public. So feel free to bring some snacks and drinks or go downtown and grab a bite at your leisure.\n\nHope to see you there!\n\n\n\n\nLocation Details\n\nFree Speech Pavilion (also known as the Smykal Pavilion). This is located on the Naperville Riverwalk near Jackson Avenue and Webster Street. This is located on the riverwalk on the library’s south side and next to the Dandelion Fountain in Civil Plaza. 188 W Jackson Ave\, Naperville\, IL 60540\, United States. \nPARKING\n\nParking is available in the street in front of the pavilion\, in the parking lot across the street north of the pavilion\, south of the pavilion across the river at the city hall parking garage and Water Street district hotel garage\, and in all other various lots around the downtown area. Parking should be more ample the earlier you arrive. There is also the larger parking garage on the east side of downtown by Barnes and Noble.\n\n\n\n\n\n  \n  \n  \n  \n  \n  \n  \n  \n  \nPark District information: https://www.napervilleparks.org/freespeechforums
URL:https://prairiestatebonsai.com/event/membership-promotion-event-on-the-riverwalk/
LOCATION:IL
END:VEVENT
END:VCALENDAR