BEGIN:VCALENDAR
VERSION:2.0
PRODID:-//Prairie State Bonsai Society - ECPv6.15.20//NONSGML v1.0//EN
CALSCALE:GREGORIAN
METHOD:PUBLISH
X-ORIGINAL-URL:https://prairiestatebonsai.com
X-WR-CALDESC:Events for Prairie State Bonsai Society
REFRESH-INTERVAL;VALUE=DURATION:PT1H
X-Robots-Tag:noindex
X-PUBLISHED-TTL:PT1H
BEGIN:VTIMEZONE
TZID:America/Chicago
BEGIN:DAYLIGHT
TZOFFSETFROM:-0600
TZOFFSETTO:-0500
TZNAME:CDT
DTSTART:20230312T080000
END:DAYLIGHT
BEGIN:STANDARD
TZOFFSETFROM:-0500
TZOFFSETTO:-0600
TZNAME:CST
DTSTART:20231105T070000
END:STANDARD
BEGIN:DAYLIGHT
TZOFFSETFROM:-0600
TZOFFSETTO:-0500
TZNAME:CDT
DTSTART:20240310T080000
END:DAYLIGHT
BEGIN:STANDARD
TZOFFSETFROM:-0500
TZOFFSETTO:-0600
TZNAME:CST
DTSTART:20241103T070000
END:STANDARD
BEGIN:DAYLIGHT
TZOFFSETFROM:-0600
TZOFFSETTO:-0500
TZNAME:CDT
DTSTART:20250309T080000
END:DAYLIGHT
BEGIN:STANDARD
TZOFFSETFROM:-0500
TZOFFSETTO:-0600
TZNAME:CST
DTSTART:20251102T070000
END:STANDARD
END:VTIMEZONE
BEGIN:VEVENT
DTSTART;TZID=America/Chicago:20240403T190000
DTEND;TZID=America/Chicago:20240403T210000
DTSTAMP:20260424T215022
CREATED:20240121T131233Z
LAST-MODIFIED:20240216T153229Z
UID:14432-1712170800-1712178000@prairiestatebonsai.com
SUMMARY:General Meeting - Tree Repotting
DESCRIPTION:General Meeting – April 3\, 2024\nTree Repotting Demonstration\nBring a tree that is in need of repotting to the meeting.  Bring tools\, soil\, and wire. \n \nPlease note that our April general meeting will be held in ROOM HEC #1020\, in the HOMELAND SECURITY EDUCATION CENTER (see aerial map below) from 7:00 PM to 9:00 PM\n\nAs always… \nBring a tree to the meeting you have questions about.  Members are always encouraged to bring personal trees to the meetings for advice on care or styling from our many club artists.\n\nMeetings are held on the first Wednesday (or the 2nd Wednesday if immediately preceded by a holiday)  from 7:00 p.m. to 8:30 p.m. at The College of Dupage campus in ROOM HEC #1020\, in the HOMELAND SECURITY EDUCATION CENTER (see aerial map below). \nThe college address is 425 Fawell Boulevard\, Glen Ellyn\, Illinois. \nMembers who are unable to attend in person may join via ZOOM. \n \n \n \nFor ease of reference\, here is the Google Maps link for the COD Homeland Security Education Building – Room # HEC1020. \nGoogle Maps Link – Click Here
URL:https://prairiestatebonsai.com/event/general-meeting-april-3-2024/
LOCATION:IL
END:VEVENT
BEGIN:VEVENT
DTSTART;TZID=America/Chicago:20240406T120000
DTEND;TZID=America/Chicago:20240406T150000
DTSTAMP:20260424T215022
CREATED:20240401T145806Z
LAST-MODIFIED:20240401T150544Z
UID:15027-1712404800-1712415600@prairiestatebonsai.com
SUMMARY:Yamadori Dig with MBS
DESCRIPTION:Bryan Lorentzen\, a member of the Milwaukee Bonsai Society\, is hosting a Yamadori dig on April 6th\, 2023\, and has invited our club to attend. \nHe walked in the woods near the Boerner Botanical Garden four years ago. The Milwaukee Public Schools own the woods. He came across a large group of burning bushes\, which are considered an invasive species in many places. When I contacted and met the caretaker of these woods\, he permitted me to dig up as many of these trees as I would like. \nWe have been there for three springs and are not making a dent. We dug maybe 50 last spring. They make great bonsai. Some were 4″ in diameter. You can dig up trees for an upright\, slant style. My plan for next spring is to make forests. The trees flower in the spring\, get red berries\, bud back\, and ramify easily\, and\, of course\, the leaves turn red in fall. This last fall\, when the leaves were changing color\, we were there. They stood out in the woods\, and there were more than a thousand of them. I will make some oval pots that you can buy for the forest at a reasonable price\, and I have some other pots for sale. \nIf you choose a large tree\, you will need branch cutters\, shovels\, bags\, a saw\, and maybe a cart because the woods are a couple hundred yards from the parking lot. Also\, be prepared with soil and pots for when you get home. \nThe event starts after their Saturday meeting on April 1st\, 2023. The meeting is from 9 to 12 noon at the Boerner Botanical Visitor building on the lower level. Come to the meeting if you want\, or you can wait in the parking lot for us to come out. There will likely be a good spring educational program. \nhttps://county.milwaukee.gov/EN/Parks/Explore/Boerner-Botanical-Gardens \nHere is a story that he wrote a few years ago about Yamadori. \nMBS Yamadori Article 2018 \nHere is an article Phil Malhiot wrote. \nCollecting Bonsai (Yamadori)
URL:https://prairiestatebonsai.com/event/yamadori-dig-with-mbs-2/
LOCATION:Boerner Botanical Gardens\, 9400 Boerner Drive\, Hales Corners\, WI\, 53130\, United States
END:VEVENT
BEGIN:VEVENT
DTSTART;VALUE=DATE:20240419
DTEND;VALUE=DATE:20240421
DTSTAMP:20260424T215022
CREATED:20240311T140002Z
LAST-MODIFIED:20240317T121140Z
UID:14883-1713484800-1713657599@prairiestatebonsai.com
SUMMARY:Bonsai Open House & Sale at Phil Malhiot’s
DESCRIPTION:Bonsai\nOpen House & Sale\nat Phil Malhiot’s\nStop by and visit my new bonsai garden and studio!\nFriday and Saturday\, April 19 & 20\n9 a.m. to 3 p.m.\n2908 S. 10th Ave.\nBroadview\, IL\n\nWe downsized and moved last summer\, but I still have way too many trees! I’ll be selling a wide variety of species\, from newer cuttings to established finished bonsai. There will also be LOTS of pots for sale\, including my own wood-fired bonsai pots and pots from other bonsai enthusiasts and artists.  I also have Arlene Knapp’s tools\, pots\, soil\, and wire.\n(Proceeds from Arlene’s items will go to PSBS)\n\nStop by anytime and check out the collection\, new benches\, the art studio\, and our garden. It would be great to see you!\n\nCall Phil Malhiot with questions: 708-705-7768
URL:https://prairiestatebonsai.com/event/bonsai-open-house-sale/
LOCATION:IL
END:VEVENT
END:VCALENDAR