BEGIN:VCALENDAR
VERSION:2.0
PRODID:-//Prairie State Bonsai Society - ECPv6.15.20//NONSGML v1.0//EN
CALSCALE:GREGORIAN
METHOD:PUBLISH
X-WR-CALNAME:Prairie State Bonsai Society
X-ORIGINAL-URL:https://prairiestatebonsai.com
X-WR-CALDESC:Events for Prairie State Bonsai Society
REFRESH-INTERVAL;VALUE=DURATION:PT1H
X-Robots-Tag:noindex
X-PUBLISHED-TTL:PT1H
BEGIN:VTIMEZONE
TZID:America/Chicago
BEGIN:DAYLIGHT
TZOFFSETFROM:-0600
TZOFFSETTO:-0500
TZNAME:CDT
DTSTART:20230312T080000
END:DAYLIGHT
BEGIN:STANDARD
TZOFFSETFROM:-0500
TZOFFSETTO:-0600
TZNAME:CST
DTSTART:20231105T070000
END:STANDARD
BEGIN:DAYLIGHT
TZOFFSETFROM:-0600
TZOFFSETTO:-0500
TZNAME:CDT
DTSTART:20240310T080000
END:DAYLIGHT
BEGIN:STANDARD
TZOFFSETFROM:-0500
TZOFFSETTO:-0600
TZNAME:CST
DTSTART:20241103T070000
END:STANDARD
BEGIN:DAYLIGHT
TZOFFSETFROM:-0600
TZOFFSETTO:-0500
TZNAME:CDT
DTSTART:20250309T080000
END:DAYLIGHT
BEGIN:STANDARD
TZOFFSETFROM:-0500
TZOFFSETTO:-0600
TZNAME:CST
DTSTART:20251102T070000
END:STANDARD
END:VTIMEZONE
BEGIN:VEVENT
DTSTART;TZID=America/Chicago:20241204T190000
DTEND;TZID=America/Chicago:20241204T213000
DTSTAMP:20260424T101236
CREATED:20241118T142139Z
LAST-MODIFIED:20241118T142802Z
UID:15747-1733338800-1733347800@prairiestatebonsai.com
SUMMARY:Christmas - Holiday Party 2024
DESCRIPTION:PRAIRIE STATE BONSAI SOCIETY CHRISTMAS PARTY\nDate: December 4\, 2024\nTime: 7:00 pm to 9:30 pm\nPlace: The Magee Estate in Wayne\, Illinois \nThis year\, we will have our annual Christmas Party on December 4 (one of our regular Wednesday meeting days ) at Larry Magee’s house—directions to follow. Larry requested we park in the driveway and enter the party from the rear of the house. It will all be lit up. \nThis is a fun get-together celebrating the holidays with our bonsai friends and colleagues.\nPlease bring food to share. It can be an appetizer\, dessert\, or homemade dish. The club will provide pop\,\nwater\, ice\, plates\, cups\, and utensils. \nAs usual\, there will be a door prize. Everyone attending will be given a free ticket for a chance to win.\nAlso\, we will be having a White Elephant gift exchange. It was a big success last year. Bring something bonsai-related if you want to play\nin the White Elephant exchange. You don’t get to play if you don’t bring a gift. Gifts are typically inexpensive ($10 – $15) and can be new or used items\, but they must be related to bonsai and be usable\, not junk. It can be a pot or tool you don’t need anymore or a book you have read\, but remember\, it must be bonsai-related. Wrap it well\, and put it in the gift pile when you arrive. You might get something helpful when it’s your turn to snag a gift from the pile. \nWe will draw numbers from a hat to determine the gift-choice play order. Starting with #1\, the first person picks a gift from\nthe pile\, unwraps it\, and displays it for all to see. The second and all subsequent people can steal or take\na gift from the pile. If they steal\, the person who just had their gift stolen can take a gift from the\npile OR steal any other gift (EXCEPT the one just stolen from them). There is no limit on how many times a\ngift can be stolen. When all the gifts have been opened\, the first player who started the game (who\, by the\nway\, never had the option of stealing a gift\, to begin with) gets to either keep or exchange his gift with\nanyone playing\, thus ending the game. It is an enjoyable event; bring a gift and participate.\nPlease remember to keep the date open for our Christmas party. We always have a good time and last year\nwas great. So\, even if you don’t usually attend our regular meetings\, plan to attend this. \nHAPPY HOLIDAYS!
URL:https://prairiestatebonsai.com/event/christmas-holiday-party-2024/
LOCATION:IL
END:VEVENT
END:VCALENDAR